Workbook

Sheet Full Schedule
A1: AGED EVENT HORSE CHECK TIMESLOTS
A2: 2-minute appointments, grouped in blocks of 5 | Futurity followed by Maturity
A4: Event | B4: Block | C4: Timeslot | D4: List No. | E4: Horse No. | F4: Horse | G4: Age | H4: Member No. | I4: Rider
A5: Futurity | B5: Block 1 | C5: =TIME(10,0,0) -> 0.41666667 | D5: 1 | E5: 166 | F5: Harpers Busy Rocn | G5: 6 | H5: 2598 | I5: Emma Douglas
A6: Futurity | B6: Block 1 | C6: =C5+TIME(0,2,0) -> 0.41805556 | D6: 2 | E6: 410 | F6: GP Moore Than Awesome | G6: 4 | H6: 3143 | I6: Ruby Lucas
A7: Futurity | B7: Block 1 | C7: =C6+TIME(0,2,0) -> 0.41944444 | D7: 3 | E7: 545 | F7: Colonels Sure To Fade | G7: 6 | H7: 7077 | I7: Kaylee Bugden
A8: Futurity | B8: Block 1 | C8: =C7+TIME(0,2,0) -> 0.42083333 | D8: 4 | E8: 270 | F8: GPS Miss Informed | G8: 5 | H8: 3805 | I8: Stacey Schultz
A9: Futurity | B9: Block 1 | C9: =C8+TIME(0,2,0) -> 0.42222222 | D9: 5 | E9: 202 | F9: Sheady Diamond Jubilee | G9: 6 | H9: 2855 | I9: Ayda Labuschewski
A10: Futurity | B10: Block 2 | C10: =C9+TIME(0,2,0) -> 0.42361111 | D10: 6 | E10: 137 | F10: Kennallywood Lineman | G10: 6 | H10: 8312 | I10: Matilda Pritchard
A11: Futurity | B11: Block 2 | C11: =C10+TIME(0,2,0) -> 0.425 | D11: 7 | E11: 316 | F11: Archie | G11: 6 | H11: 6893 | I11: Katie McColley
A12: Futurity | B12: Block 2 | C12: =C11+TIME(0,2,0) -> 0.42638889 | D12: 8 | E12: 103 | F12: Roc Starr | G12: 6 | H12: 994 | I12: Amy Eckford
A13: Futurity | B13: Block 2 | C13: =C12+TIME(0,2,0) -> 0.42777778 | D13: 9 | E13: 507 | F13: KND Super Dutton | G13: 5 | H13: 6893 | I13: Jorden McColley
A14: Futurity | B14: Block 2 | C14: =C13+TIME(0,2,0) -> 0.42916667 | D14: 10 | E14: 308 | F14: Roc A Doc Sensation | G14: 5 | H14: 5878 | I14: Sarah McCamley
A15: Futurity | B15: Block 3 | C15: =C14+TIME(0,2,0) -> 0.43055556 | D15: 11 | E15: 208 | F15: Spin A Brandy | G15: 6 | H15: 1410 | I15: Julie Breed
A16: Futurity | B16: Block 3 | C16: =C15+TIME(0,2,0) -> 0.43194444 | D16: 12 | E16: 380 | F16: Cowgirls Zipper | G16: 4 | H16: 6730 | I16: Kevin Berry
A17: Futurity | B17: Block 3 | C17: =C16+TIME(0,2,0) -> 0.43333333 | D17: 13 | E17: 252 | F17: MCR Frosted Nefertiti | G17: 6 | H17: 1573 | I17: Rebecca Luxford
... A23: Futurity | B23: Block 4 | C23: =C22+TIME(0,2,0) -> 0.44166667 | D23: 19 | E23: 544 | F23: Colonels Silver Sasha | G23: 5 | H23: 2670 | I23: Angeline Kattenberg
A24: Futurity | B24: Block 4 | C24: =C23+TIME(0,2,0) -> 0.44305556 | D24: 21 | E24: 250 | F24: Famous Impression | G24: 5 | I24: Jill Burch
A25: Futurity | B25: Block 5 | C25: =C24+TIME(0,2,0) -> 0.44444444 | D25: 22 | E25: 429 | F25: Morns Roc N Grit | G25: 6 | H25: 5318 | I25: Hydi Gleeson
A26: Futurity | B26: Block 5 | C26: =C25+TIME(0,2,0) -> 0.44583333 | D26: 23 | E26: 401 | F26: Morns Gypsy Rose | G26: 6 | H26: 2926 | I26: Courtney Mackin
A27: Futurity | B27: Block 5 | C27: =C26+TIME(0,2,0) -> 0.44722222 | D27: 24 | E27: 321 | F27: KKS Busters Fame | G27: 6 | H27: 2707 | I27: Jema Slotosch
A28: Futurity | B28: Block 5 | C28: =C27+TIME(0,2,0) -> 0.44861111 | D28: 25 | E28: 201 | F28: Moves Like Shiraz | G28: 5 | H28: 874 | I28: Katina Matthews
A29: Futurity | B29: Block 5 | C29: =C28+TIME(0,2,0) -> 0.45 | D29: 26 | E29: 474 | F29: JB Dream Of You | G29: 5 | H29: 98 | I29: Jane Keenan
A30: Futurity | B30: Block 6 | C30: =C29+TIME(0,2,0) -> 0.45138889 | D30: 27 | E30: 245 | F30: Peptos Bundy Roc | G30: 6 | H30: 614 | I30: Renae Kent
A31: Futurity | B31: Block 6 | C31: =C30+TIME(0,2,0) -> 0.45277778 | D31: 28 | E31: 264 | F31: SS Fast Lane Ta Fame | G31: 4 | H31: 3805 | I31: Stacey Schultz
A32: Futurity | B32: Block 6 | C32: =C31+TIME(0,2,0) -> 0.45416667 | D32: 29 | E32: 377 | F32: Eyesa So Smart | G32: 4 | H32: 4493 | I32: Taleah Kurver
A33: Futurity | B33: Block 6 | C33: =C32+TIME(0,2,0) -> 0.45555556 | D33: 30 | E33: 404 | F33: AH Roc O Niner | G33: 4 | H33: 8414 | I33: Rebecca Elmir
A34: Futurity | B34: Block 6 | C34: =C33+TIME(0,2,0) -> 0.45694444 | D34: 31 | E34: 4 | F34: CC Famousontherocks | G34: 6 | H34: 728 | I34: Cheyanne Becker-Stevens
A35: Futurity | B35: Block 7 | C35: =C34+TIME(0,2,0) -> 0.45833333 | D35: 32 | E35: 161 | F35: Stitch Up Fame | G35: 6 | H35: 8569 | I35: Ruby Bell
A36: Futurity | B36: Block 7 | C36: =C35+TIME(0,2,0) -> 0.45972222 | D36: 33 | E36: 21 | F36: Sheza Fifty Shades Of Red | G36: 6 | H36: 60 | I36: Jo Caldwell
... A132: Maturity | B132: Block 13 | C132: =C131+TIME(0,2,0) -> 0.59305556 | D132: 63 | E132: 42 | F132: Peptos JD Rocer | G132: 7 | H132: 307 | I132: Adele Edwards

Sheet Futurity
A1: FUTURITY HORSE CHECK TIMESLOTS
A2: Starts at 10:00 AM | 65 horses | 13 blocks of 5
A4: Event | B4: Block | C4: Timeslot | D4: List No. | E4: Horse No. | F4: Horse | G4: Age | H4: Member No. | I4: Rider
A5: Futurity | B5: Block 1 | C5: ='Full Schedule'!C5 -> 0.41666667 | D5: 1 | E5: 166 | F5: Harpers Busy Rocn | G5: 6 | H5: 2598 | I5: Emma Douglas
A6: Futurity | B6: Block 1 | C6: ='Full Schedule'!C6 -> 0.41805556 | D6: 2 | E6: 410 | F6: GP Moore Than Awesome | G6: 4 | H6: 3143 | I6: Ruby Lucas
A7: Futurity | B7: Block 1 | C7: ='Full Schedule'!C7 -> 0.41944444 | D7: 3 | E7: 545 | F7: Colonels Sure To Fade | G7: 6 | H7: 7077 | I7: Kaylee Bugden
A8: Futurity | B8: Block 1 | C8: ='Full Schedule'!C8 -> 0.42083333 | D8: 4 | E8: 270 | F8: GPS Miss Informed | G8: 5 | H8: 3805 | I8: Stacey Schultz
A9: Futurity | B9: Block 1 | C9: ='Full Schedule'!C9 -> 0.42222222 | D9: 5 | E9: 202 | F9: Sheady Diamond Jubilee | G9: 6 | H9: 2855 | I9: Ayda Labuschewski
A10: Futurity | B10: Block 2 | C10: ='Full Schedule'!C10 -> 0.42361111 | D10: 6 | E10: 137 | F10: Kennallywood Lineman | G10: 6 | H10: 8312 | I10: Matilda Pritchard
A11: Futurity | B11: Block 2 | C11: ='Full Schedule'!C11 -> 0.425 | D11: 7 | E11: 316 | F11: Archie | G11: 6 | H11: 6893 | I11: Katie McColley
A12: Futurity | B12: Block 2 | C12: ='Full Schedule'!C12 -> 0.42638889 | D12: 8 | E12: 103 | F12: Roc Starr | G12: 6 | H12: 994 | I12: Amy Eckford
A13: Futurity | B13: Block 2 | C13: ='Full Schedule'!C13 -> 0.42777778 | D13: 9 | E13: 507 | F13: KND Super Dutton | G13: 5 | H13: 6893 | I13: Jorden McColley
A14: Futurity | B14: Block 2 | C14: ='Full Schedule'!C14 -> 0.42916667 | D14: 10 | E14: 308 | F14: Roc A Doc Sensation | G14: 5 | H14: 5878 | I14: Sarah McCamley
A15: Futurity | B15: Block 3 | C15: ='Full Schedule'!C15 -> 0.43055556 | D15: 11 | E15: 208 | F15: Spin A Brandy | G15: 6 | H15: 1410 | I15: Julie Breed
A16: Futurity | B16: Block 3 | C16: ='Full Schedule'!C16 -> 0.43194444 | D16: 12 | E16: 380 | F16: Cowgirls Zipper | G16: 4 | H16: 6730 | I16: Kevin Berry
... A23: Futurity | B23: Block 4 | C23: ='Full Schedule'!C23 -> 0.44166667 | D23: 19 | E23: 544 | F23: Colonels Silver Sasha | G23: 5 | H23: 2670 | I23: Angeline Kattenberg
A24: Futurity | B24: Block 4 | C24: ='Full Schedule'!C24 -> 0.44305556 | D24: 21 | E24: 250 | F24: Famous Impression | G24: 5 | I24: Jill Burch
A25: Futurity | B25: Block 5 | C25: ='Full Schedule'!C25 -> 0.44444444 | D25: 22 | E25: 429 | F25: Morns Roc N Grit | G25: 6 | H25: 5318 | I25: Hydi Gleeson
A26: Futurity | B26: Block 5 | C26: ='Full Schedule'!C26 -> 0.44583333 | D26: 23 | E26: 401 | F26: Morns Gypsy Rose | G26: 6 | H26: 2926 | I26: Courtney Mackin
A27: Futurity | B27: Block 5 | C27: ='Full Schedule'!C27 -> 0.44722222 | D27: 24 | E27: 321 | F27: KKS Busters Fame | G27: 6 | H27: 2707 | I27: Jema Slotosch
A28: Futurity | B28: Block 5 | C28: ='Full Schedule'!C28 -> 0.44861111 | D28: 25 | E28: 201 | F28: Moves Like Shiraz | G28: 5 | H28: 874 | I28: Katina Matthews
A29: Futurity | B29: Block 5 | C29: ='Full Schedule'!C29 -> 0.45 | D29: 26 | E29: 474 | F29: JB Dream Of You | G29: 5 | H29: 98 | I29: Jane Keenan
A30: Futurity | B30: Block 6 | C30: ='Full Schedule'!C30 -> 0.45138889 | D30: 27 | E30: 245 | F30: Peptos Bundy Roc | G30: 6 | H30: 614 | I30: Renae Kent
A31: Futurity | B31: Block 6 | C31: ='Full Schedule'!C31 -> 0.45277778 | D31: 28 | E31: 264 | F31: SS Fast Lane Ta Fame | G31: 4 | H31: 3805 | I31: Stacey Schultz
A32: Futurity | B32: Block 6 | C32: ='Full Schedule'!C32 -> 0.45416667 | D32: 29 | E32: 377 | F32: Eyesa So Smart | G32: 4 | H32: 4493 | I32: Taleah Kurver
A33: Futurity | B33: Block 6 | C33: ='Full Schedule'!C33 -> 0.45555556 | D33: 30 | E33: 404 | F33: AH Roc O Niner | G33: 4 | H33: 8414 | I33: Rebecca Elmir
A34: Futurity | B34: Block 6 | C34: ='Full Schedule'!C34 -> 0.45694444 | D34: 31 | E34: 4 | F34: CC Famousontherocks | G34: 6 | H34: 728 | I34: Cheyanne Becker-Stevens
A35: Futurity | B35: Block 7 | C35: ='Full Schedule'!C35 -> 0.45833333 | D35: 32 | E35: 161 | F35: Stitch Up Fame | G35: 6 | H35: 8569 | I35: Ruby Bell
A36: Futurity | B36: Block 7 | C36: ='Full Schedule'!C36 -> 0.45972222 | D36: 33 | E36: 21 | F36: Sheza Fifty Shades Of Red | G36: 6 | H36: 60 | I36: Jo Caldwell
... A69: Futurity | B69: Block 13 | C69: ='Full Schedule'!C69 -> 0.50555556 | D69: 66 | E69: 477 | F69: French Martini | G69: 4 | H69: 994 | I69: Amy Eckford

Sheet Maturity
A1: MATURITY HORSE CHECK TIMESLOTS
A2: Follows Futurity | 63 horses | 12 blocks of 5 plus final block of 3
A4: Event | B4: Block | C4: Timeslot | D4: List No. | E4: Horse No. | F4: Horse | G4: Age | H4: Member No. | I4: Rider
A5: Maturity | B5: Block 1 | C5: ='Full Schedule'!C70 -> 0.50694444 | D5: 1 | E5: 61 | F5: Fast Fame | G5: 9 | H5: 9013 | I5: Tracey Porter
A6: Maturity | B6: Block 1 | C6: ='Full Schedule'!C71 -> 0.50833333 | D6: 2 | E6: 73 | F6: JL I Luvcheapthrills | G6: 9 | H6: 5469 | I6: Libby Corbet
A7: Maturity | B7: Block 1 | C7: ='Full Schedule'!C72 -> 0.50972222 | D7: 3 | E7: 119 | F7: Shesa Fame Babe | G7: 7 | H7: 918 | I7: Leslie Moore
A8: Maturity | B8: Block 1 | C8: ='Full Schedule'!C73 -> 0.51111111 | D8: 4 | E8: 30 | F8: Watch Acres Spin | G8: 8 | H8: 10530 | I8: Holly Muskett
A9: Maturity | B9: Block 1 | C9: ='Full Schedule'!C74 -> 0.5125 | D9: 5 | E9: 227 | F9: Peptos Tilly Morn | G9: 7 | H9: 536 | I9: Ryley Menz
A10: Maturity | B10: Block 2 | C10: ='Full Schedule'!C75 -> 0.51388889 | D10: 6 | E10: 38 | F10: Shesaboomnhayday | G10: 8 | H10: 474 | I10: Tammy Cooper
A11: Maturity | B11: Block 2 | C11: ='Full Schedule'!C76 -> 0.51527778 | D11: 7 | E11: 2 | F11: A Lethal Twist | G11: 7 | H11: 239 | I11: Jenny Bone
A12: Maturity | B12: Block 2 | C12: ='Full Schedule'!C77 -> 0.51666667 | D12: 8 | E12: 284 | F12: Straight Shooter | G12: 9 | H12: 113 | I12: Wendy Caban
A13: Maturity | B13: Block 2 | C13: ='Full Schedule'!C78 -> 0.51805556 | D13: 9 | E13: 484 | F13: Phenomenal Snoop | G13: 9 | H13: 8474 | I13: Taysha Wadling
A14: Maturity | B14: Block 2 | C14: ='Full Schedule'!C79 -> 0.51944444 | D14: 10 | E14: 519 | F14: LR Roc Me Silent | G14: 9 | H14: 9759 | I14: Ashley Shaw
A15: Maturity | B15: Block 3 | C15: ='Full Schedule'!C80 -> 0.52083333 | D15: 11 | E15: 131 | F15: Rocs Jimmie Jack | G15: 8 | H15: 5131 | I15: Phoebe Usher
A16: Maturity | B16: Block 3 | C16: ='Full Schedule'!C81 -> 0.52222222 | D16: 12 | E16: 498 | F16: Tae Tae | G16: 7 | H16: 4231 | I16: Chaylee Joe Kong
... A67: Maturity | B67: Block 13 | C67: ='Full Schedule'!C132 -> 0.59305556 | D67: 63 | E67: 42 | F67: Peptos JD Rocer | G67: 7 | H67: 307 | I67: Adele Edwards
